BEGIN:VCALENDAR
VERSION:2.0
PRODID:icalendar-ruby
CALSCALE:GREGORIAN
METHOD:PUBLISH
BEGIN:VEVENT
DTSTAMP:20260420T141830Z
UID:5e732582-22de-4801-9ab0-4c0d2785794a
DTSTART:20251217T120000
DTEND:20260113T210000
DESCRIPTION:<p>Be the first to find out about the<strong> Milk and Cookies 
 Music Week</strong> events.</p>
LOCATION:South Africa
SUMMARY:PRE-REGISTER: MILK + COOKIES MUSIC WEEK
URL;VALUE=URI:https://www.howler.co.za/mcmusicweekprereg
END:VEVENT
END:VCALENDAR
