BEGIN:VCALENDAR
VERSION:2.0
PRODID:icalendar-ruby
CALSCALE:GREGORIAN
METHOD:PUBLISH
BEGIN:VEVENT
DTSTAMP:20260419T132853Z
UID:84803868-86d9-4c85-b6cc-76b743c1ba56
DTSTART:20220903T120000
DTEND:20220903T210000
DESCRIPTION:<p><span style="background-color: white\; color: rgb(5\, 5\, 5)
 \;">Ladies and gentleman\, we bring you the "Pretoria All White Bubbly Fes
 tival". This prestigious event will be hosted on Sat 03 September at the b
 eautiful “Fire & Wine” venue. The dress code is “All White” and we
  will be serving some of the finest MCC and sparkling wines South Africa h
 as to offer. Your ticket includes access to the event\, a champagne glass 
 and 7 tasting tokens. The event will offer live music\, great food and del
 icious bubbly! Tickets are limited. No under 18's.</span></p>
LOCATION:Plot 43\, Zwavelpoort\, Pretoria\, 0040
SUMMARY:Pretoria All White Bubbly Festival
URL;VALUE=URI:https://www.howler.co.za/Pretoria_White_Bubbly_Festival
END:VEVENT
END:VCALENDAR
