BEGIN:VCALENDAR
VERSION:2.0
PRODID:icalendar-ruby
CALSCALE:GREGORIAN
METHOD:PUBLISH
BEGIN:VEVENT
DTSTAMP:20260425T165000Z
UID:9544cb9c-9fcd-4c7f-a2ef-ed29c65c3070
DTSTART:20190324T130000
DTEND:20190324T150000
DESCRIPTION:<p>Enjoy a Sunday lunch cruise on the Vaal River.</p><p><br></p
 ><p>R440 per adult and R220 per child U/12</p><p><br></p><p>2 hour cruise 
 includes:</p><ul><li>Buffet meal</li><li>Wine tasting</li><li>Cash Bar</li
 ></ul><p><br></p><p>Departing from Liquid Lounge Jetty at Emerald Resort a
 nd Casino.</p><p><strong>Please note: You need to arrive 30 minutes prior 
 to departure (12H30)</strong></p>
LOCATION:777 Frikkie Meyer Blvd\, Vanderbijlpark\, Gauteng\, 1900
SUMMARY:Public Sunday Lunch Cruise - Vaal River
URL;VALUE=URI:https://www.howler.co.za/liquid-lounge-sunday-lunch-24mar
END:VEVENT
END:VCALENDAR
