BEGIN:VCALENDAR
VERSION:2.0
PRODID:icalendar-ruby
CALSCALE:GREGORIAN
METHOD:PUBLISH
BEGIN:VEVENT
DTSTAMP:20260421T162427Z
UID:fd57e0b3-2a35-470f-b7d7-e5da03b53748
DTSTART:20221212T180000
DTEND:20221212T200000
DESCRIPTION:<p>Rapiary III - The Unmastered Files is the third mixtape from
  the series. This is D_cider's third mixtape\; a build up to the Sink or S
 wim EP. A wordsmith\, experimental musician in hip hop\, Rnb\, soul\, funk
  and jazz.</p>
SUMMARY:Rapiary III (The Unmastered Files) Mixtape Launch
URL;VALUE=URI:https://www.howler.co.za/rapiaryIII
END:VEVENT
END:VCALENDAR
