BEGIN:VCALENDAR
VERSION:2.0
PRODID:icalendar-ruby
CALSCALE:GREGORIAN
METHOD:PUBLISH
BEGIN:VEVENT
DTSTAMP:20260422T030752Z
UID:136899a5-a773-494c-bc9c-8b87dcd9da0a
DTSTART:20260430T190000
DTEND:20260501T020000
DESCRIPTION:<p><span>RE:START 2026 🔥🎶 is set to ignite Johannesburg
 ’s nightlife with a high-energy electronic music experience at The View 
 in Bedfordview. Taking place on Thursday\, 30 April 2026 📅\, this event
  brings together a powerful lineup of DJs ready to deliver an unforgettabl
 e night of sound\, style\, and atmosphere.</span></p><p><br></p><p><span>H
 eadlined by Chunda Munki 🎧\, known for his infectious house beats and d
 ynamic performances\, the night also features Neil Hunter and Lucidity\, p
 romising a diverse mix of grooves and rhythms to keep the dancefloor alive
  💃🕺. Supporting acts including Jazza\, Jayden Harris\, Shmitty\, Gho
 sty\, and Malcs add even more depth to the lineup\, showcasing rising tale
 nt alongside established names 🌟.</span></p><p><br></p><p><span>Set aga
 inst a sleek\, modern backdrop\, RE:START is more than just a party—it
 ’s a celebration of music culture\, connection\, and fresh beginnings 
 ✨. Whether you're a dedicated house music fan or just looking for an ele
 ctrifying night out ⚡\, this is where you want to be.</span></p><p><br><
 /p><p><span>📍 Venue: The View\, Bedfordview\, Johannesburg 🎟️ Ti
 ckets: Available via Howler</span></p><p><span>Get ready to press reset an
 d step into a night of pure energy 🚀🎵</span></p><p><br></p>
LOCATION:9 Skeen Boulevard\, Bedfordview\, Johannesburg
SUMMARY:Re:Start 2.0
URL;VALUE=URI:https://www.howler.co.za/ReStart2
END:VEVENT
END:VCALENDAR
