BEGIN:VCALENDAR
VERSION:2.0
PRODID:icalendar-ruby
CALSCALE:GREGORIAN
METHOD:PUBLISH
BEGIN:VEVENT
DTSTAMP:20260423T155813Z
UID:1ac543ba-f1de-4913-af50-9816451fe19c
DTSTART:20230715T200000
DTEND:20230716T040000
DESCRIPTION:<p>After nearly 7 weeks of touring through Europe\, our <a href
 ="https://epicure.club/bdsm/dominatrix" target="_blank">Cape Town Dominatr
 ix</a> Dark Baroness is returning to South Africa. She will bring with her
  the kink and sexiness of places like the KitKat Club\, Insomnia and many 
 others...</p><p><br></p><p>Be prepared to experience the world of <strong>
 kink</strong> on an international level - unlike anything you have ever se
 en or experienced before. You may expect live sex and <a href="https://epi
 cure.club/bdsm" target="_blank">femdom</a> demonstrations like pegging and
  queening.</p><p><br></p><p>Come explore your darkest desires with the <st
 rong>Dark Baroness</strong> and the <a href="https://epicure.club" target=
 "_blank">EPICURE CLUB</a>.</p>
LOCATION:4 Little Lions Head Rd\, Cape Town
SUMMARY:Return of the Dark Baroness
URL;VALUE=URI:https://www.howler.co.za/bdsm-party-12
END:VEVENT
END:VCALENDAR
