BEGIN:VCALENDAR
VERSION:2.0
PRODID:icalendar-ruby
CALSCALE:GREGORIAN
METHOD:PUBLISH
BEGIN:VEVENT
DTSTAMP:20260422T085446Z
UID:233cbd4c-b39e-4c6a-946d-7e19e5e684e9
DTSTART:20251129T080000
DTEND:20251129T170000
DESCRIPTION:<p><strong>RACE START 08h00 </strong></p><p><span style="color:
  rgb(24\, 2\, 2)\;">Join us on the 29th of November for the 14th edition o
 f our Rotsvas Challenge. Runners will experience a challenging route on a 
 privately owned pristine trail network in the Bronberg\, starting and endi
 ng in a botanical garden. Vendors with great coffee\, good food and ice co
 ld craft beer will await finishers. This event will continue if it rains a
 nd might only be delayed in the case of lightning. Entries are limited to 
 100 entrants. Please visit the website for more information:</span> <a hre
 f="https://www.rotsvas.co.za/" target="_blank" style="color: rgb(118\, 79\
 , 219)\;">https://rotsvas.co.za/</a></p>
LOCATION:969 Disselboom Avenue Wapadrand
SUMMARY:Rotsvas Trail Run Challenge 2025
URL;VALUE=URI:https://www.howler.co.za/rotsvastrail2025
END:VEVENT
END:VCALENDAR
