BEGIN:VCALENDAR
VERSION:2.0
PRODID:icalendar-ruby
CALSCALE:GREGORIAN
METHOD:PUBLISH
BEGIN:VEVENT
DTSTAMP:20260420T062334Z
UID:fecfd3e2-4f6f-4ed2-ab29-610a9fb4204f
DTSTART:20191215T120000
DTEND:20191216T010000
DESCRIPTION:<p>SAINT TROPEZ TROPICAL POOL PARTY </p><p>Powered by Malibu R
 um & Olmeca Tequila </p><p><br></p><p>Saints\, we're excited to see you a
 gain!</p><p><br></p><p>This time we're inviting you to join us in the hidd
 en gem\, central Durban - Kingston Beach Club.</p><p><br></p><p>We hope yo
 u're ready to dance on the beach sand & dive into the aquamarine pool! </
 p><p><br></p><p>It's going to be a tropical & fun day out. </p><p><br></p
 ><p>Our Beach Stage will be headlined by:</p><p>RYAN MURGATROYD (Live)</p>
 <p><br></p><p>Supported by:</p><p>Syzo</p><p>Jayy Jabs</p><p>Knott</p><p>G
  Major</p><p>I Am Rogue </p><p>Just Finn </p><p>Melodica </p><p>Ty Stol
 tz </p><p>Kritik</p><p>Sennorra</p><p>& more </p><p><br></p><p>_________
 ___________________________________</p><p><br></p><p>Please Note: This Poo
 l Party has a capped attendance\, first come first serve! Get your tickets
  now. </p><p><br></p><p>Tickets: www.howler.co.za/sainttropezpoolparty</p
 ><p>True Saint SPECIAL - R99 (Limited)</p><p><br></p><p><br></p><p>_______
 ____________________________________</p><p><br></p><p>Venue:</p><p>Kingsto
 n Beach Club can be found in Kings Park Stadium.</p><p>It is easy to acces
 s and a central point from wherever you're travelling from in Durban.</p><
 p><br></p><p>Right of Admission Reserved</p><p>Participation in this event
  is entirely at your own risk.</p><p><br></p>
LOCATION:Ramp 3\, Kings Park Stadium
SUMMARY:Saint Tropez Pool Party | 15th Dec 19
URL;VALUE=URI:https://www.howler.co.za/sainttropezpoolparty
END:VEVENT
END:VCALENDAR
