BEGIN:VCALENDAR
VERSION:2.0
PRODID:icalendar-ruby
CALSCALE:GREGORIAN
METHOD:PUBLISH
BEGIN:VEVENT
DTSTAMP:20260421T100636Z
UID:394104a1-7835-4705-85cc-013935f0be3e
DTSTART:20230908T190000
DTEND:20230909T000000
DESCRIPTION:<p>🎉Get Ready for an Unforgettable Night of Fun and Entertai
 nment at Funtasia Fun Park!🎉</p><p>Join us for an incredible evening th
 at promises to be a blast for the whole family! Scallywag is setting the s
 tage on fire\, and Tizel will be rocking the tunes in between\, ensuring n
 on-stop excitement all night long.</p><p><br></p><p>📅 Date: Friday 8 Se
 ptember 2023</p><p>⏰ Time: 19:00 - 00:00</p><p>📍 Venue: Funtasia Fun 
 Park\, Welkom</p><p>🎟️ Tickets:</p><ul><li>General Admission: R99 per
  person</li><li>Kids (Under 12): R25 each</li></ul><p><br></p><p>What to E
 xpect:</p><p>🎶 Scallywag's Live Performance - 3 Hours of Musical Magic<
 /p><p>💃 Dance the Night Away</p><p>🍔 Delicious Food and Drinks</p><p
 >🎤 Music by Tizel - Keeping the Vibes Alive</p><p><br></p><p>It's an ev
 ening of laughter\, dance\, great food\, refreshing drinks\, and the chanc
 e to make unforgettable memories. Bring your family and friends to experie
 nce a night of pure joy and entertainment.</p><p>Don't miss out on this fa
 ntastic event! Grab your tickets now and get ready to dance\, sing along\,
  and create memories that will last a lifetime.</p><p><br></p><p>For ticke
 t inquiries and bookings\, contact: 078 692 4040. Or</p><p>Book Online at:
  https://www.howler.co.za/events/scallywag-funtasia-fun-park-e3f0</p><p><b
 r></p><p>Mark your calendars\, spread the word\, and get ready to have a b
 last at Funtasia Fun Park with Scallywag and Tizel!</p><p><br></p><p><br><
 /p><p><br></p>
LOCATION:1 Petrus Bosch St\, Jan Cilliers Park\, Welkom\, 9459
SUMMARY:Scallywag @ Funtasia Fun Park
URL;VALUE=URI:https://www.howler.co.za/Scallywag
END:VEVENT
END:VCALENDAR
