BEGIN:VCALENDAR
VERSION:2.0
PRODID:icalendar-ruby
CALSCALE:GREGORIAN
METHOD:PUBLISH
BEGIN:VEVENT
DTSTAMP:20260423T161744Z
UID:bb392970-3be5-4a73-b5a2-0df511b217cc
DTSTART:20250426T120000
DTEND:20250426T220000
DESCRIPTION:<p><span>People of KZN\, we bring you the official SCHWEPPES DU
 RBAN GIN FESTIVAL 2025. This year you can expect an incredible variety of 
 craft gin brands to indulge in. There will also be an assortment of food t
 rucks available\, and of course some of SA's top DJ’s on the decks. The 
 event this year will be hosted at the stunning “Station Urban Event Spac
 e”’ which is on the rooftop of the Durban Station. One of the top even
 t venues in KZN!</span></p><p><span> </span></p><ul><li><span>Your ticket
  includes a complimentary gin cocktail on arrival.</span></li><li><span>VI
 P tickets available (limited to 50 tickets).</span></li><li><span>No food 
 or beverage items may be brought into the event venue. (Don't worry\, we'v
 e got you covered with food options for every taste and budget).</span></l
 i><li><span>Please enjoy responsibly. Please don't drink and drive (book a
 n Uber or taxi).</span></li><li><span>Wear comfortable shoes.</span></li><
 li><span>No under 18’s.</span></li><li><span>Gates open at 12:00. Show c
 loses at 22:00.</span></li></ul><p><br></p>
LOCATION:65 Masabalala Yengwa Ave\, Stamford Hill\, Durban\, 4001
SUMMARY:Schweppes Durban Gin Festival
URL;VALUE=URI:https://www.howler.co.za/Durban_Gin_Festival_2025
END:VEVENT
END:VCALENDAR
