BEGIN:VCALENDAR
VERSION:2.0
PRODID:icalendar-ruby
CALSCALE:GREGORIAN
METHOD:PUBLISH
BEGIN:VEVENT
DTSTAMP:20260423T174635Z
UID:dbe22f45-d2b0-4f1e-8ad6-a22ee0452126
DTSTART:20251122T120000
DTEND:20251122T220000
DESCRIPTION:<p><span>Good people of Limpopo\, we bring you the official SCH
 WEPPES POLOKWANE GIN FESTIVAL 2025! This year you can expect amazing craft
  gin brands\, food trucks\, sip & paint classes\, mixology classes and som
 e of SA's top artists on the stage! The event will be hosted at the outdoo
 r arena at Meropa Casino.</span></p><p><br></p><p><span>Tickets are limite
 d\, so get yours before they are sold out!</span></p><p><br></p><ul><li><s
 pan>Your ticket includes a complimentary gin cocktail on arrival.</span></
 li><li><span>No food or beverage items may be brought into the event venue
 . (Don't worry\, we've got you covered with food options for every taste a
 nd budget).</span></li><li><span>Please enjoy responsibly. </span></li><li
 ><span>Wear comfortable shoes.</span></li><li><span>No under 18’s.</span
 ></li><li><span>Gates open at 12:00. Show closes at 22:00. </span></li></
 ul><p><br></p>
LOCATION:Polokwane
SUMMARY:Schweppes Polokwane Gin Festival
URL;VALUE=URI:https://www.howler.co.za/polokwane_gin_festival_2025
END:VEVENT
END:VCALENDAR
