BEGIN:VCALENDAR
VERSION:2.0
PRODID:icalendar-ruby
CALSCALE:GREGORIAN
METHOD:PUBLISH
BEGIN:VEVENT
DTSTAMP:20260424T183036Z
UID:7619199e-3311-443b-93f0-39fc7f894d38
DTSTART:20241214T120000
DTEND:20241214T220000
DESCRIPTION:<p><span style="color: rgb(5\, 5\, 5)\;">Woza December! People 
 of KZN and Eastern Cape\, we bring you the SCHWEPPES WILD COAST GIN FESTIV
 AL 2024. This year you can expect more gin brands\, delicious food and a s
 tellar line-up of DJ’s. The Wild Coast Sun is an iconic venue which over
 looks the beautiful Indian Ocean. Gather your friends and book your ticket
 s for a day full of good gin\, good food and good times! </span></p><p><sp
 an style="color: rgb(5\, 5\, 5)\;"> </span></p><ul><li>Ticket includes a 
 complimentary gin cocktail on arrival.</li><li>No food or beverage items m
 ay be brought into the event venue. (Don't worry\, we've got you covered w
 ith food options for every taste and budget).</li><li>Don't drink and driv
 e. Please enjoy responsibly.</li><li>No under 18’s. </li><li>Gates open 
 at 12:00. Show closes at 22:00. </li></ul><p><br></p>
LOCATION:Main Bizana Road\, Port Edward
SUMMARY:Schweppes Wild Coast Gin Festival
URL;VALUE=URI:https://www.howler.co.za/Wild_Coast_Gin_Festival_2024
END:VEVENT
END:VCALENDAR
