BEGIN:VCALENDAR
VERSION:2.0
PRODID:icalendar-ruby
CALSCALE:GREGORIAN
METHOD:PUBLISH
BEGIN:VEVENT
DTSTAMP:20260425T184721Z
UID:cffee9ba-5ab2-464b-98b7-b9c4c3061120
DTSTART:20231123T180000
DTEND:20231123T210000
DESCRIPTION:<p>Slow Clothing Exchange is based on the idea of a classic "Si
 p & Swap" where women get together to have a glass of wine and thrift thei
 r wardrobes. </p><p><br></p><p>We want to be kind to the environment by "s
 lowing" down fashion and providing women with the opportunity to find new 
 treasures whilst letting go of the old ones. </p><p><br></p><p>This event 
 is female founded\, organized\, and run with the goal to be inclusive and 
 empower all women through their clothing.</p>
LOCATION:Prison Break Market\, 10 Macmillan Rd\, Glenferness
SUMMARY:Sip & Swap 
URL;VALUE=URI:https://www.howler.co.za/Slow_sipandswap
END:VEVENT
END:VCALENDAR
