BEGIN:VCALENDAR
VERSION:2.0
PRODID:icalendar-ruby
CALSCALE:GREGORIAN
METHOD:PUBLISH
BEGIN:VEVENT
DTSTAMP:20260421T165635Z
UID:f9617336-2c44-41bc-b72e-b23adfaff98c
DTSTART:20251227T200000
DTEND:20251228T020000
DESCRIPTION:<p>Get ready for an amazing night of Old School dancefloor hits
  \, Taking you from the 80s\, 90s and 2000s..</p><p>with a touch of Bolly 
 fusion to spice things up.</p><p><br></p><p>This time \, Buddhafunk is bri
 nging one of South Africa's best vocalist and talented drummer \, DAWNAY\,
  to rock you till the early hours with old school legendary DJ DINO BRAVO.
  Neal Rain & Jason 2Ray will certainly complete this with the best of all 
 musical genres. </p><p><br></p><p>Let make sure that Boxing Day is certain
 ly a night to remember in Durban</p><p><br></p><p>Dress in white (optional
 ) to experience the Snow White theme and lets build the momentum to welcom
 e 2026 in style.</p><p><br></p><p>Get your tickets now</p><p><br></p><p>in
 fo@buddhafunk.co.za | 0824634118 / 0726333700</p><p>ROAR</p><p>No under 18
 s allowed</p>
LOCATION:Theatre of Shopping\, 1 Palm Blvd\, Umhlanga Ridge\, Durban\, 4319
  
SUMMARY:Snow White : The DURBAN Edition - La Parada Umhlanga
URL;VALUE=URI:https://www.howler.co.za/white
END:VEVENT
END:VCALENDAR
