BEGIN:VCALENDAR
VERSION:2.0
PRODID:icalendar-ruby
CALSCALE:GREGORIAN
METHOD:PUBLISH
BEGIN:VEVENT
DTSTAMP:20260421T235111Z
UID:c744793d-b8bf-4c6a-ad4a-5e24afcc9bc0
DTSTART:20181231T190000
DTEND:20190101T020000
DESCRIPTION:<p><span style="background-color: rgb(255\, 255\, 255)\; color:
  rgb(29\, 33\, 41)\;">🗿🌲 The NYE Experience of a life time awaits al
 l those seeking the magical Tribal Forest.</span></p><p><br></p><p><span s
 tyle="background-color: rgb(255\, 255\, 255)\; color: rgb(29\, 33\, 41)\;"
 >Voltz Events is excited to announce the launch of So Happy Tribal Forest 
 NYE celebration and experience to take place at La Parada Constantia Nek.<
 /span></p><p><br></p><p><span style="background-color: rgb(255\, 255\, 255
 )\; color: rgb(29\, 33\, 41)\;">🌲🗿🌲🗿🌲🗿🌲🗿🌲🗿
 🌲🗿🌲🗿🌲🗿🌲🗿🌲🗿🌲🗿</span></p><p><br></p><p><
 span style="background-color: rgb(255\, 255\, 255)\; color: rgb(29\, 33\, 
 41)\;">We encourage YOU to welcome in the New Year celebration by dressing
  up as the Tribe of your choice & immerse yourself in a different tribal w
 orld with Magical Roaming Artistry/ Incredible Live Acts\, DJ’s and Stag
 es + inspiring art installations and decor. </span></p><p><br></p><p><spa
 n style="background-color: rgb(255\, 255\, 255)\; color: rgb(29\, 33\, 41)
 \;">🌲🗿🌲🗿🌲🗿🌲🗿🌲🗿🌲🗿🌲🗿🌲🗿🌲
 🗿🌲🗿🌲🗿</span></p><p><br></p><p><span style="background-color
 : rgb(255\, 255\, 255)\; color: rgb(29\, 33\, 41)\;">🎟 Tickets to go li
 ve on Monday 3rd December 2018</span></p><p><br></p><p><span style="backgr
 ound-color: rgb(255\, 255\, 255)\; color: rgb(29\, 33\, 41)\;">Come and jo
 in the So Happy TRIBE and usher in a year of good health\, peace and an ev
 er loving environment. Taking the magic from the forest and step into 2019
  feeling inspired\, youthful and re-energised.⚡️🌲</span></p>
LOCATION:1 Hout Bay Rd\, Hout Bay\, Cape Town\, 8001
SUMMARY:So Happy - Tribal Forest New Years Eve
URL;VALUE=URI:https://www.howler.co.za/sohappytribalforest
END:VEVENT
END:VCALENDAR
