BEGIN:VCALENDAR
VERSION:2.0
PRODID:icalendar-ruby
CALSCALE:GREGORIAN
METHOD:PUBLISH
BEGIN:VEVENT
DTSTAMP:20260424T171405Z
UID:54ead0dd-c54a-49df-a8ac-4299ab7733da
DTSTART:20250627T190000
DTEND:20250628T020000
DESCRIPTION:<p><span>Get ready for a night of pure connection\, smooth R&B\
 , and unforgettable vibes.</span></p><p><span>Soul 2 Soul returns with An 
 Intimate Face-to-Face Experience — a night where music meets energy\, an
 d real ones come together.</span></p><p><br></p><p><span>Save the Date:</s
 pan></p><p><span>27 June 2025</span></p><p><span>The Baron\, Sandton</span
 ></p><p><span>Expect sultry sounds\, good people\, and that unmatched Soul
  2 Soul atmosphere.</span></p><p><br></p><p><span>Powered by Don Julio and
  hosted at one of Sandton’s finest.</span></p><p><span>Dress fresh. Brin
 g good energy. Let’s make memories.</span></p><p><br></p><p><br></p>
LOCATION:Sandton Gate\, 27 Minerva Avenue\, Glenadrienne\, Sandton\, 2196
SUMMARY:Soul 2 Soul (JHB)
URL;VALUE=URI:https://www.howler.co.za/Soul2SoulJHB3
END:VEVENT
END:VCALENDAR
