BEGIN:VCALENDAR
VERSION:2.0
PRODID:icalendar-ruby
CALSCALE:GREGORIAN
METHOD:PUBLISH
BEGIN:VEVENT
DTSTAMP:20260424T170012Z
UID:b84db318-508d-4002-85ea-d7c6d49628bb
DTSTART:20231123T090000
DTEND:20231127T000000
DESCRIPTION:<p><span>The Soweto Festival Expo is the principle event in Sow
 eto that draws together business\, SMMEs\, youth\, community organisations
 \, consumers and all the people of Soweto on an annual basis to celebrate 
 Soweto's richness and diversity. It's an event not to be missed.</span></p
 ><p><span>Purchase your ticket now!!!</span></p><p><br></p>
LOCATION:167 Gumede Street Moroka
SUMMARY:Soweto Festival Expo Expo 40th celebration 
URL;VALUE=URI:https://www.howler.co.za/40thSowetoFest
END:VEVENT
END:VCALENDAR
