BEGIN:VCALENDAR
VERSION:2.0
PRODID:icalendar-ruby
CALSCALE:GREGORIAN
METHOD:PUBLISH
BEGIN:VEVENT
DTSTAMP:20260424T053910Z
UID:a5bbdeed-5136-45d8-972b-584096829d0b
DTSTART:20220409T120000
DTEND:20220410T020000
DESCRIPTION:<h2>An immersive 14-hour techno music extravaganza situated at 
 Cape Town’s newly renovated outdoor super-venue.</h2><p><br></p><p><stro
 ng><em>﻿THE OSTRICH </em></strong><em>offers a truly spectacular open ai
 r day-club setting</em> featuring a 360° beach bar with pristine white be
 ach sand\, day beds and other world-class amenities.</p><p>Revel in warm a
 mplified sound on sprawling lawns <em>near the water’s edge surrounded b
 y pure\, raw & dreamy nature.  </em></p><p><br></p><p>The journey to out
 er space and sonic truth continues…</p><p><br></p><p>👩‍🚀 Line Up
  👩‍🚀</p><p><br></p><p>Talia Zaken</p><p>Pariah b2b Dylan Munro</p>
 <p>Bad Disk</p><p>SiyaSibaca</p><p>STAB Virus</p><p>Cody Meyer b2b Kong</p
 ><p>JED</p><p>Dec<span style="background-color: rgb(255\, 255\, 255)\; col
 or: rgb(32\, 33\, 36)\;">Ø</span>der</p><p>Lewis</p><p><br></p><p><br></p
 ><p>Food vendors with vegan options will be available at the event.</p><p>
 <br></p><p><strong>Keep an eye on our socials for new event information:</
 strong></p><p><br></p><p><a href="https://www.facebook.com/spiltmilkoffici
 al" target="_blank">Facebook</a></p><p><a href="https://www.instagram.com/
 spiltmilkofficial/?hl=en" target="_blank">Instagram</a></p>
LOCATION:The Ostrich - Cape Town\, Ostrich Ranch\, Van Schoorsdrif Rd\, Phi
 ladelphia\, Cape Town\, 7439
SUMMARY:SpiltMilk Music Festival
URL;VALUE=URI:https://www.howler.co.za/gardenedition
END:VEVENT
END:VCALENDAR
