BEGIN:VCALENDAR
VERSION:2.0
PRODID:icalendar-ruby
CALSCALE:GREGORIAN
METHOD:PUBLISH
BEGIN:VEVENT
DTSTAMP:20260422T170038Z
UID:f98e070c-3cad-4fc0-acec-0c8fccfa6d3a
DTSTART:20210925T120000
DTEND:20210925T120000
DESCRIPTION:<p>Join us and break in the Summer Season the right way at the 
 Summer Split. With Live DJs performing the music will never stop pumping. 
 Outdoor Grill and Bar where you can stock up on delicious food and tropica
 l cocktails all day long and cool down at the pool for a full tropical exp
 erience. Come and have a blast with us at these.</p>
LOCATION:12 Dunkirk raod\, Delville\, Germiston 1401
SUMMARY:Summer Split
URL;VALUE=URI:https://www.howler.co.za/summersplit
END:VEVENT
END:VCALENDAR
