BEGIN:VCALENDAR
VERSION:2.0
PRODID:icalendar-ruby
CALSCALE:GREGORIAN
METHOD:PUBLISH
BEGIN:VEVENT
DTSTAMP:20260419T131733Z
UID:aed4ea57-d0aa-4961-b7d3-1cf8fbde8029
DTSTART:20201106T140000
DTEND:20201108T220000
DESCRIPTION:<p>HomeComing Events takes over Sun City this Spring with a wee
 kend filled with sun\, fun and so much more! A different event will be hos
 ted each day of the weekend starting Friday 6 November.</p>
LOCATION:R556\, Sun City\, 0316\, Sun City\, North-West\, 0316
SUMMARY:Sun City Takeover 2020
URL;VALUE=URI:https://www.howler.co.za/suncityfon
END:VEVENT
END:VCALENDAR
