BEGIN:VCALENDAR
VERSION:2.0
PRODID:icalendar-ruby
CALSCALE:GREGORIAN
METHOD:PUBLISH
BEGIN:VEVENT
DTSTAMP:20260423T161521Z
UID:23fc5d62-22ab-4251-8273-1e5cbf1418c2
DTSTART:20220320T150000
DTEND:20220321T000000
DESCRIPTION:<p>Don't Let Monday Ruin Your Sunday ☀️</p><p>Cape Town we 
 are finally back and oh boy have we missed you!</p><p>We can’t wait to p
 arty with all you Sessioners again. We have the perfect date lined up for 
 you with Monday being a public holiday 🕊🎉</p><p>Our return event wil
 l be hosted at the beautiful hidden oasis KONG in De Waterkant 🌿🌴</p
 ><p>Date: 20th March </p><p>Time: 15:00 - 00:00</p><p>As always you can e
 xpect an array of electronic music from some of the countries finest selec
 tors 🔊</p><p><br></p><p>// Line Up //</p><p>|| FRIENDS OF FRIENDS SOUND
 SYSTEM</p><p>|| !MEESHEE</p><p>|| LAZARUSMAN</p><p>|| BRUNO MORPHET</p><p>
 <br></p><p>As an event it is our goal to create a safe space for everyone!
  Inclusivity is key and discrimination of any form will not be tolerated.<
 /p><p>Like always we will keep our first hour free for those who want to c
 ome early grab a lunch \,sip on a cocktail and soak up the day!</p><p>Groo
 ve with us\, grow with us. If you've been\, you know what we about if you 
 haven't come find out... </p><p><br></p><p>//Ticket Prices//</p><p>Presol
 d: R80</p><p><br></p><p>On The Day/Door:</p><p>First Hour Free</p><p>16h00
 -19h30: R100</p><p>19h30: R150</p><p><br></p><p>Don’t Let Monday Ruin Yo
 ur Sunday ☀️</p><p>See you beautiful Sessioners Soon!</p><p>@sundayses
 sionsza</p>
LOCATION:10-12 Cobern St\, De Waterkant\, Cape Town\, 8001
SUMMARY:Sunday Sessions | 20 MAR
URL;VALUE=URI:https://www.howler.co.za/SS20MAR
END:VEVENT
END:VCALENDAR
