BEGIN:VCALENDAR
VERSION:2.0
PRODID:icalendar-ruby
CALSCALE:GREGORIAN
METHOD:PUBLISH
BEGIN:VEVENT
DTSTAMP:20260419T125919Z
UID:ab5f17df-7b65-4187-a7b5-fc19cc0a3a9b
DTSTART:20251025T100000
DTEND:20251025T220000
DESCRIPTION:<h1>🎵 Sundowners Game Lodge Country Spectacular 🎵</h1><p>
 <strong>Live Music • Food • Fun • Family Entertainment</strong></p><
 p><strong>📅 Date:</strong> Saturday\, 25 October</p><p>🕙 <strong>Tim
 e:</strong> 10:00 AM – 10:00 PM</p><p>📍 <strong>Venue:</strong> Sundo
 wners Game Lodge\, Marble Hall</p><p>✨ A full <strong>12 hours of non-st
 op country music</strong> and entertainment!</p><h3>🎤 Live Performances
  By:</h3><ul><li>Barbara Ray</li><li>Clive Bruce</li><li>Will Jordan</li><
 li>Esmond</li><li>Joey Lane</li><li>Nico J</li><li>Louanne</li><li>Ruaan W
 hite</li><li>Nadine Burness</li></ul><p><br></p><h3>🎶 Plus:</h3><p>🎡
  <strong>Fun Park – <em>Kids’ Paradise awaits: rides\, slides & endles
 s fun!</em></strong></p><p><strong> 🍔 Delicious Food Stalls</strong></p
 ><p><strong> 🧸 Fun Toy Stalls</strong></p><p><strong> 👗 Stylish Clot
 hing & Jewelry Stalls</strong></p><p><strong> 🚗 Exciting Vehicle Displa
 ys</strong></p><p><br></p><p><strong>There’s something for everyone – 
 young and old alike!</strong></p><p><br></p><p><strong>👉 Don’t miss t
 his unforgettable Country Spectacular!</strong></p><p><br></p>
LOCATION:PTN 578\, Loskop Noord 12\, Marble Hall\, 0450
SUMMARY:Sundowners Country Spectacular
URL;VALUE=URI:https://www.howler.co.za/SundownersCountryFees
END:VEVENT
END:VCALENDAR
