BEGIN:VCALENDAR
VERSION:2.0
PRODID:icalendar-ruby
CALSCALE:GREGORIAN
METHOD:PUBLISH
BEGIN:VEVENT
DTSTAMP:20260421T094317Z
UID:5adedce2-14de-45e2-be31-84627162eee7
DTSTART:20241123T140000
DTEND:20241123T200000
DESCRIPTION:<h3><strong>Welcome to the First Annual Supernatural Convention
 !</strong></h3><p><strong>Calling all hunters\, angels\, demons\, and die-
 hard Supernatural fans! Join us on November 23</strong> at <strong>Bud Roc
 k Cafe in Kempton</strong> for an unforgettable celebration of all things 
 Supernatural. Step into a world of lore\, mystery\, and fandom with a day 
 packed full of panels\, role-playing adventures\, and exclusive merchandis
 e. Whether you’re here to geek out over fan theories or to hunt a ghost 
 or two\, this is where you’ll find your family.</p><p>LOCATION GPS: <spa
 n>489 SHAMROCK ROAD\, BREDELL\, KEMPTON PARK\, GAUTENG\, 1619</span></p><h
 3><strong>Event Highlights:</strong></h3><p>🔥 <strong>Roadhouse-Style B
 ar</strong>: Get a drink\, share stories\, and connect with fellow fans in
  a bar reminiscent of the legendary Roadhouse.</p><p>🛍️ <strong>Vendo
 r Market</strong>: Browse through a curated selection of vendors selling u
 nique\, Supernatural-inspired merch—exclusive items you won’t want to 
 miss!</p><p>🎤 <strong>Convention Panels</strong>:</p><ul><li><strong>Pa
 ranormal Investigations with Matt and Nigel</strong>: Join real-life paran
 ormal investigators Matt and Nigel as they dive into the spine-chilling el
 ements of ghost hunting\, especially here in South Africa. They’ll be sh
 aring personal stories and insights\, plus answering your burning question
 s on everything from techniques to ghostly encounters!</li><li><strong>Sup
 ernatural Lore & Fan Theories</strong>: Join discussions on the show’s b
 iggest mysteries\, character arcs\, and fan theories that keep us coming b
 ack for more.</li></ul><p>🕹️ <strong>LARP & Role-playing Adventures</
 strong>:</p><ul><li>Suit up\, grab some props\, and dive into Supernatural
 -style role-playing\, where you’ll tackle challenges\, hunt down monster
 s\, and become part of the story. Teams will be sent on “hunts” throug
 hout the venue\, encountering clues and facing off against the supernatura
 l.</li><li><strong>One-Shot DND Campaign</strong>: As part of the LARP exp
 erience\, join a unique DND one-shot campaign led by skilled Dungeon Maste
 rs. Sign up to be part of a thrilling Supernatural-inspired story\, where 
 you’ll battle monsters and work together to solve mysteries.</li></ul><p
 >🎉But that’s not all—We’ll definitely be selling <strong>Slayer E
 nergy Drink</strong>🍹✨ and our friends at Bud Rock Cafe will be servi
 ng up Slayer Bombs and some specially curated cocktails just for our event
 ! 🍻🔥 It’s going to be a wild ride filled with great drinks and eve
 n greater company!</p><p><br></p><p>🎉 <strong>After-Party Bonfire with 
 DJs</strong>: End the day with an epic bonfire and a send-off to “Carry 
 on My Wayward Son\,” where DJs will keep the energy going well into the 
 night.</p><p>Get ready to make memories\, meet new friends\, and celebrate
  the Supernatural legacy together. Don’t miss out on this incredible fan
 dom experience—grab your tickets now and join us for a day that’s sure
  to be...supernatural.</p><p><br></p>
LOCATION:489 SHAMROCK ROAD\, BREDELL\, KEMPTON PARK\, GAUTENG\, 1619
SUMMARY:Supernatural Convention
URL;VALUE=URI:https://www.howler.co.za/supernaturalconvention
END:VEVENT
END:VCALENDAR
