BEGIN:VCALENDAR
VERSION:2.0
PRODID:icalendar-ruby
CALSCALE:GREGORIAN
METHOD:PUBLISH
BEGIN:VEVENT
DTSTAMP:20260420T033251Z
UID:927081ee-2375-4a24-a600-4aad000e6891
DTSTART:20220923T170000
DTEND:20220923T230000
DESCRIPTION:<p>Supper Club is a monthly pop up restaurant which aims to bri
 ng a sophisticated yet unorthodox experience to our attendees.</p>
LOCATION:5 Firwood Ave\, Hazelwood\, Pretoria\, 0081
SUMMARY:Supper Club 
URL;VALUE=URI:https://www.howler.co.za/SupperClub_ZA
END:VEVENT
END:VCALENDAR
