BEGIN:VCALENDAR
VERSION:2.0
PRODID:icalendar-ruby
CALSCALE:GREGORIAN
METHOD:PUBLISH
BEGIN:VEVENT
DTSTAMP:20260422T152617Z
UID:43b47867-221c-4043-90a3-ede34207154d
DTSTART:20190705T200000
DTEND:20190706T020000
DESCRIPTION:<p>Surreal. The Block Party 🎪</p><p><br></p><p>The definitio
 n that describes a life out of the ordinary\, filled with adventures and e
 xperiences that tell a story that's so real. 🎶</p><p><br></p><p>Music d
 efines all of us in the most purest ways\, it allows us to express our fee
 lings through sound waves and body movements. The life in Music has taken 
 our world to the highest point\, allowing change in ourselves and giving o
 ur body the sound it requires.</p><p><br></p><p>This Event is here to ackn
 owledge the Beauty music holds\, the passion and soul it carries everywher
 e it goes 🎵 Through all kinds of Obstacles\, the sound of Music will he
 lp you overcome them all...</p><p><br></p><p>Introducing your Headliner! 
 </p><p><br></p><p>CHUNDA MUNKI 💫</p><p><br></p><p>Soundcloud -</p><p>ht
 tps://soundcloud.com/chunda_munki</p><p><br></p><p>Allow us to take you on
  a musical journey for a Surreal Experience! 🕊</p><p><br></p><p>What to
  Expect..</p><p><br></p><p>● Live Dancers </p><p>● 2 Dancefloors </p
 ><p>● Food Area </p><p>● Drink Specials</p><p>● Secret Grooves</p><
 p><br></p><p>& A lot more to be announced 🌴</p><p><br></p><p>▁▁▁
 ▁▁▁▁▁▁▁▁▁▁▁</p><p><br></p><p>ARTIST LINE UP </p><p>
 <br></p><p>SURREAL MAIN FLOOR </p><p><br></p><p>Coming 🔜</p><p><br></p
 ><p>HIP HOP BLOCK </p><p><br></p><p>Coming 🔜</p><p><br></p><p>  ▁
 ▁▁▁▁▁▁▁▁▁▁▁▁▁</p><p><br></p><p>DOORS OPEN - 7pm 
 CLOSE 3am</p><p>TICKETS PRESALE - R100</p><p>DOOR ENTRY R150 ALL NIGHT</p>
 <p>DRESS CODE - BE YOURSELF! 🌻</p><p><br></p><p>Venue - RUNWAY BEACH BA
 R ⛱</p><p><br></p><p>Sponsors..</p><p><br></p><p>CLAV</p><p>FOURCORNERS 
 PRODUCTIONS</p><p><br></p><p>✖✖✖✖✖✖✖✖✖✖✖</p><p><br><
 /p><p>R.O.A.R - Runway supports responsible drinking T's & C's apply.</p><
 p><br></p><p>#Strange things are Happening</p>
LOCATION:Dakota Crescent\, Germiston\, Gauteng
SUMMARY:Surreal Block Party 
URL;VALUE=URI:https://www.howler.co.za/Surrealblockparty
END:VEVENT
END:VCALENDAR
