BEGIN:VCALENDAR
VERSION:2.0
PRODID:icalendar-ruby
CALSCALE:GREGORIAN
METHOD:PUBLISH
BEGIN:VEVENT
DTSTAMP:20260421T032629Z
UID:87be35e2-86ab-4ab0-8a67-0a242fed820c
DTSTART:20230513T203000
DTEND:20230514T020000
DESCRIPTION:<p><strong style="background-color: rgb(236\, 241\, 244)\; colo
 r: rgb(57\, 57\, 57)\;">Temple Boys Cpt</strong><span style="background-co
 lor: rgb(236\, 241\, 244)\; color: rgb(57\, 57\, 57)\;"> is a popular art
 ist from </span><strong style="background-color: rgb(236\, 241\, 244)\; c
 olor: rgb(57\, 57\, 57)\;">South Africa\, </strong><span style="background
 -color: rgb(255\, 255\, 255)\; color: rgb(71\, 87\, 95)\;">performing for 
 the very first time in East London.</span><strong style="background-color:
  rgb(236\, 241\, 244)\; color: rgb(57\, 57\, 57)\;">. The band from Ravens
 mead </strong><span style="background-color: rgb(255\, 255\, 255)\; color:
  rgb(71\, 87\, 95)\;">have been the talk of the town for their TikTok vide
 os\, grabbing the attention of their local community and celebrities like 
 South African rapper AKA.</span></p>
LOCATION:East London\, Gonubie
SUMMARY:Temple Boys Live in East London - Sat\, 13th May
URL;VALUE=URI:https://www.howler.co.za/mgeventssa2
END:VEVENT
END:VCALENDAR
