BEGIN:VCALENDAR
VERSION:2.0
PRODID:icalendar-ruby
CALSCALE:GREGORIAN
METHOD:PUBLISH
BEGIN:VEVENT
DTSTAMP:20260421T081413Z
UID:7123b383-4549-405f-838c-874bddb9d863
DTSTART:20260306T190000
DTEND:20260307T020000
DESCRIPTION:<p><span>Get ready for a timeless night of pure nostalgia and s
 mooth grooves as Old Skool meets RnB elegance at </span><strong>Paradiso</
 strong><span>\, located in the heart of </span><strong>Montecasino</strong
 ><span>\, on </span><strong>Friday\, 6 March</strong><span>.</span></p><p>
 <br></p><p>The Beatz goes on from 90s slow jams and early 2000s anthems to
  the unforgettable dancefloor classics that defined a generation. This is 
 more than just a party… it’s a celebration of the soundtrack to your b
 est memories.</p><p><br></p><p>Headlining the night is none other than <st
 rong>Chrizz Beatz</strong><span> from </span><strong>947</strong><span>\, 
 bringing his signature high-energy sound and flawless mixing to the decks.
  Joining him are Buddhafunk’s very own tastemakers\, </span><strong>DJ N
 eal Rain</strong><span> and </span><strong>Jason 2Ray</strong><span>\, del
 ivering the smoothest RnB cuts and certified Old Skool bangers to keep you
  moving all night long.</span></p><p><br></p><p><span>Dress sharp. Bring y
 our crew. Prepare to sing\, dance\, and vibe to the tracks that never get 
 old.</span></p><p><strong>Old Skool x RnB at Paradiso – where the classi
 cs live forever.</strong></p><p><br></p><p><strong>No under 18s</strong></
 p><p><strong>Dress Smart Casual</strong></p><p><strong>ROAR</strong></p><p
 >info@buddhafunk.co.za  0824634118 | 0726333700</p>
LOCATION:Montecasino Fourways
SUMMARY:The BEATZ Goes on ft. 947's CHRIZZ BEATZ  | Paradiso Montecasino
URL;VALUE=URI:https://www.howler.co.za/beatz
END:VEVENT
END:VCALENDAR
