BEGIN:VCALENDAR
VERSION:2.0
PRODID:icalendar-ruby
CALSCALE:GREGORIAN
METHOD:PUBLISH
BEGIN:VEVENT
DTSTAMP:20260421T082613Z
UID:944ed289-9b41-45db-afda-0663bb89a420
DTSTART:20260327T183000
DTEND:20260327T230000
DESCRIPTION:<p><span>The Beer Mile isn’t just a race — it’s an experi
 ence. 🍻🔥</span></p><p><br></p><p><span>We’re bringing a full event
  vibe: live DJ\, partner stands\, epic giveaways\, prizes\, and serious cr
 owd energy from start to finish.</span></p><p><br></p><p><span>There’ll 
 even be limited free beer up for grabs on the day 👀🍺</span></p><p><b
 r></p><p><span>It’s competition\, entertainment\, and a proper night out
  with your mates — all in one.</span></p><p><br></p><p><br></p>
LOCATION:78 George Storrar Street\, Groenkloof
SUMMARY:The Beer Mile 2026
URL;VALUE=URI:https://www.howler.co.za/TheBeerMile2026
END:VEVENT
END:VCALENDAR
