BEGIN:VCALENDAR
VERSION:2.0
PRODID:icalendar-ruby
CALSCALE:GREGORIAN
METHOD:PUBLISH
BEGIN:VEVENT
DTSTAMP:20260421T162120Z
UID:6c929f02-d5f6-4c22-8f96-4b7a05231f7a
DTSTART:20221103T180000
DTEND:20221103T210000
DESCRIPTION:<p>"The Birth Of Benjamin Stash" is a debut album by Benjamin S
 tash\, a D_cider Alter Ego. Benjamin Stash is more evoked by Jazz\, Soul &
  Blues. This is a stretch or rather a reach for expression and emotions in
  the form of music that cannot or are utterly hard to be expressed in Hip 
 Hop. According to D_cider\, one of the duties for an artist is to release 
 energy to the world\, and this a way to tap into that energy.</p>
SUMMARY:The Birth Of Benjamin Stash
URL;VALUE=URI:https://www.howler.co.za/thebirthofbenjaminstash
END:VEVENT
END:VCALENDAR
