BEGIN:VCALENDAR
VERSION:2.0
PRODID:icalendar-ruby
CALSCALE:GREGORIAN
METHOD:PUBLISH
BEGIN:VEVENT
DTSTAMP:20260423T035820Z
UID:7db6640f-ac3f-4d11-9004-b51b8949830d
DTSTART:20240113T210000
DTEND:20240114T050000
DESCRIPTION:<p>MUUD PRESENTS:</p><p>THE END / sat. 13 .01 .24</p><p><br></p
 ><p>And Club\, Johannesburg.</p><p><br></p><p><span>2024 holds much antici
 pation after the many beautiful memories we all experienced together on ou
 r dancefloor. We welcome the new year with our first instalment of our mon
 thly residency at And Club. </span></p><p><br></p><p><span>It’s a been 
 a while and we are back \, ready to make more experiences\, memories\, rea
 dy to dance and ready to let go. </span></p><p><br></p><p><span>Sit tight
 \, we have a few surprises in store for you all. </span></p><p><br></p><p
 ><span>We’re in the MUUD.</span></p><p><br></p><p><br></p><p>"THE END"</
 p><p><br></p><p>meaning\;</p><p>The temporary end of reality when one sets
  foot through the doors\; a temporary escape.</p><p><br></p><p><br></p><p>
 NO RACISM</p><p>NO SEXISM</p><p>NO HOMOPHOBIA</p><p>NO TRANSPHOBIA</p><p><
 br></p><p>a safe space for all.</p><p><br></p><p><a href="https://www.face
 book.com/hashtag/theend?__eep__=6&__cft__[0]=AZW4wvbl1-uhDnQr51ONbkHpf11l2
 3wisdADzfWSlXxswmtyg5uwE9wMeIFe7mIzVEkQEDMbqILB1bnXXAWyNhOEFr_VqVAxyeGRn5j
 lb-DTGcHloAajzCzFXVFaCi2bA7k&__tn__=q" target="_blank" style="color: rgb(7
 1\, 80\, 87)\;">#theend</a> <a href="https://www.facebook.com/hashtag/muu
 dmovement?__eep__=6&__cft__[0]=AZW4wvbl1-uhDnQr51ONbkHpf11l23wisdADzfWSlXx
 swmtyg5uwE9wMeIFe7mIzVEkQEDMbqILB1bnXXAWyNhOEFr_VqVAxyeGRn5jlb-DTGcHloAajz
 CzFXVFaCi2bA7k&__tn__=q" target="_blank" style="color: rgb(71\, 80\, 87)\;
 ">#muudmovement</a> | 25.11.23 | 21:00PM-05:00AM</p><p>——————
 ————————————</p><p><br></p><p>LINE-UP /</p><p><br>
 </p><p>club:</p><p><br></p><p>FABIO B2B CLAUDE</p><p>TERMINUS B2B AESKA</p
 ><p>TROIX FRICTION</p><p>BO LEDEV</p><p>NEXUS</p><p><br></p><p>garden:</p>
 <p><br></p><p>MOBBTECH B2B DOKTA OOZ</p><p>tiro!</p><p>THE MEYER</p><p><br
 ></p><p>——————————————————</p><p><br><
 /p><p>TICKETS /</p><p><br></p><p>Pre-sold tickets to this event are limite
 d. Make sure you buy them early to avoid disappointment.</p><p><a href="ht
 tps://l.facebook.com/l.php?u=https%3A%2F%2Fwww.howler.co.za%2Ftheend009%3F
 fbclid%3DIwAR2T8-SB7EWit7AYG6VFQMs_vll73aqMUMlXwzgWx7p5sT9S4sJouJRGbUA&h=A
 T2LTr7kQS9cn56ER-oMYrwA_6ricut-VeZ6H5vI3y9pRfQunNonTiXtdjE-dpLJEEXrja1LECm
 KaJfwEXtpleaFJDbmcxHmtrWNvhRamsAXc7vFb9oonwoPnjl1PrF5D8fG&__tn__=q&c[0]=AT
 1_OOHmGnnSRRYawOegX-4E8f5l9QPAjaAV3CXFO244aj-jLBPmARCheY9ysAoi3qfy6daRJyUt
 1nsID3uzyrfiwwV2InjF6PupV8w-kEcX-6EbqW5yv2fK4zI5gdB6j8kDygdPYyLVGsIMsXe9aC
 iiNyWE" target="_blank" style="color: rgb(71\, 80\, 87)\;">https://www.how
 ler.co.za/theend0</a>17</p><p><br></p><p>Presold - R100 - R150</p><p>Door 
 - R200</p><p>——————————————————</p><p>
 <br></p><p>PARKING /</p><p><br></p><p>Should you choose to drive\, please 
 have at least one designated driver. Secure parking is available at the ve
 nue with security watching over your car. Park at your own risk.</p><p>—
 —————————————————</p><p><br></p><p>INFO 
 & CONTACT /</p><p><br></p><p>— OVER 18 - NO ID NO ENTRY</p><p>— NO VID
 EOS. NO PHOTOS. NO PHONES.</p><p>— TICKETS ARE NON-REFUNDABLE</p><p>— 
 ENTER AT YOUR OWN RISK</p><p>— RIGHT OF ADMISSION RESERVED</p><p>— PLE
 ASE DON’T DRINK & DRIVE</p><p>— STANDARD EVENT T’s & C’s APPLY</p>
 <p>— PARK AT YOUR OWN RISK</p><p><br></p><p>No pass-outs until midnight.
 </p><p>For any inquiries please email - muudmovement@gmail.com</p><p><br><
 /p><p>The venue & event organizers of the event accept no responsibility f
 or loss/damage to property\, personal injury\, loss\, or death. Enter at y
 our own risk. This applies even to negligence of any kind by the promoters
 \, venue\, and contractors. Due care has been taken to make this event saf
 e & secure. All rights reserved.</p><p><br></p><p><br></p><p><br></p><p><b
 r></p>
LOCATION:39 Gwi Gwi Mrwebi Street\, Johannesburg\, Gauteng\, 2113
SUMMARY:THE END  /  13. 01. 24
URL;VALUE=URI:https://www.howler.co.za/theend017
END:VEVENT
END:VCALENDAR
