BEGIN:VCALENDAR
VERSION:2.0
PRODID:icalendar-ruby
CALSCALE:GREGORIAN
METHOD:PUBLISH
BEGIN:VEVENT
DTSTAMP:20260421T082820Z
UID:a705df1c-1362-41e4-912c-461a6db914fb
DTSTART:20260213T180000
DTEND:20260214T060000
DESCRIPTION:<p><span>🌹 </span><strong>THE GARDEN OF LOVE</strong><span> 
 🌹</span></p><p><br></p><p><span> </span><strong>Valentine’s Weekend |
  Friday\, 13 February</strong></p><p><strong>For one night only\, The Gard
 en changes its name…and its mood.</strong></p><p><br></p><p><strong>Welc
 ome to The Garden of Love</strong><span> — where the lights soften\, the
  music leans in closer\, and the night moves at a different pace. This isn
 ’t about rushing the moment. It’s about </span><em>feeling</em><span> 
 it. ❤️✨</span></p><p><br></p><p><strong>Dr Victor</strong><span> tak
 es centre stage\, delivering live energy that’s warm\, familiar\, and im
 possible not to move to. </span></p><p><br></p><p>Think sing-along moments
 \, hands in the air\, and that kind of joy that feels effortless — wheth
 er you came with someone special or you’re letting the night surprise yo
 u.</p><p><br></p><p>This is for the lovers.</p><p><span>The hopeless roman
 tics.</span></p><p><span>The “we didn’t plan it but stayed till the en
 d” crowd.</span></p><p><br></p><p><span>Dress well. Arrive open.</span><
 /p><p><span> Let the music do the rest.</span></p><p><br></p><p><span>📍
  The Greenhouse\, Sandton</span></p><p><span> 📅 Friday\, 13 February</s
 pan></p><p><span> 🕕 From 6PM till late</span></p><p><br></p><p><span>
 💫 </span><strong>The Garden of Love blooms once.</strong></p><p><strong
 > Miss it… and you’ll wish you didn’t.</strong><span> 💫</span></p
 ><p><br></p>
LOCATION:Sandton 
SUMMARY:The Garden of Love
URL;VALUE=URI:https://www.howler.co.za/gardenoflove13022026
END:VEVENT
END:VCALENDAR
