BEGIN:VCALENDAR
VERSION:2.0
PRODID:icalendar-ruby
CALSCALE:GREGORIAN
METHOD:PUBLISH
BEGIN:VEVENT
DTSTAMP:20260420T171842Z
UID:ea76d18e-5eaf-4539-8519-99b4635a7ad8
DTSTART:20260423T160000
DTEND:20260424T060000
DESCRIPTION:<p>The Last Affair - 23 April</p><p>The Greenhouse\, Sandton</p
 >
LOCATION:Sandton 
SUMMARY:The Last Affair - 23 April
URL;VALUE=URI:https://www.howler.co.za/thelastaffair
END:VEVENT
END:VCALENDAR
