BEGIN:VCALENDAR
VERSION:2.0
PRODID:icalendar-ruby
CALSCALE:GREGORIAN
METHOD:PUBLISH
BEGIN:VEVENT
DTSTAMP:20260420T073555Z
UID:e690698b-9bdd-413c-9408-95d61161c8da
DTSTART:20220322T133000
DTEND:20220322T170000
DESCRIPTION:<p>💃🏻How MasLOW can you go? 💃🏻</p><p><br></p><p>@at
 mediapro and @themaslowhotel are proud to present a Drag Show experience t
 o whittle your wig right down to the cap!</p><p><br></p><p>Its The Maslow 
 Drag Show! ✨</p><p><br></p><p>Join our local drag legends for a catered 
 experience that will leave you gagged\, gooped\, and hopefully - drunk! <
 /p><p><br></p><p>Join your host\, Drag Superstar - ADAM (@adaammahh) - alo
 ngside local fan favorites @sheislust and @lady.aphroditea in a drag dinin
 g extravaganza for the record books!</p><p><br></p><p>Where and When:</p><
 p>- The Maslow Hotel</p><p>- March 20th</p><p>- 12:30 for 13:00</p><p><br>
 </p><p>🎟 Tickets from R150 so get ‘em while they’re hot! 🎟</p><p
 ><br></p><p>Uber is your friend\, chile.</p>
LOCATION:Rivonia Rd &\, Grayston Dr\, Gauteng\, Sandton\, 2031
SUMMARY:The Maslow Drag Show
URL;VALUE=URI:https://www.howler.co.za/maslowdragshow
END:VEVENT
END:VCALENDAR
