BEGIN:VCALENDAR
VERSION:2.0
PRODID:icalendar-ruby
CALSCALE:GREGORIAN
METHOD:PUBLISH
BEGIN:VEVENT
DTSTAMP:20260424T205234Z
UID:ab4ac0c0-3aa0-4f38-ba11-1011aec749c0
DTSTART:20201205T130000
DTEND:20201205T230000
DESCRIPTION:<p><strong>THE SOCIAL EXPERIENCE</strong></p><p><br></p><p><spa
 n style="color: rgb(0\, 0\, 0)\;">The Premium Summer Festive event that se
 ts its precedence on a good time with a basic touch of sophistication that
  pays attention to detail with premium hospitality\, class and exclusivity
 .</span></p>
LOCATION:Plot 9 Lucas Steyn street\, Heuweisig\, Bloemfontein\, Free State\
 , 9301
SUMMARY:THE SOCIAL EXPERIENCE
URL;VALUE=URI:https://www.howler.co.za/socialexperience
END:VEVENT
END:VCALENDAR
