BEGIN:VCALENDAR
VERSION:2.0
PRODID:icalendar-ruby
CALSCALE:GREGORIAN
METHOD:PUBLISH
BEGIN:VEVENT
DTSTAMP:20260420T033407Z
UID:511edecf-22c8-4b1c-9f15-8f58ded126c4
DTSTART:20231006T180000
DTEND:20231007T000000
DESCRIPTION:<p><span>People need people\, and we are creating a community. 
 Our Sole Purpose is to bridge the gap between local innovators with the wo
 rld by showcasing their creations through distinct experiences.</span></p>
LOCATION:2 De Beer St\, Braamfontein\, Johannesburg\, 2000
SUMMARY:The Sole Purpose Experience Episode 7
URL;VALUE=URI:https://www.howler.co.za/thesolepurposexp
END:VEVENT
END:VCALENDAR
