BEGIN:VCALENDAR
VERSION:2.0
PRODID:icalendar-ruby
CALSCALE:GREGORIAN
METHOD:PUBLISH
BEGIN:VEVENT
DTSTAMP:20260421T082455Z
UID:4160a1e8-b203-493b-9760-2ea58cbf9aeb
DTSTART:20260205T120000
DTEND:20260206T040000
DESCRIPTION:<p>Your Mid Week Appointment - The Thursday Affair</p><p>FT- MI
 LA ROSE</p>
LOCATION:Sandton 
SUMMARY:The Thursday Affair 
URL;VALUE=URI:https://www.howler.co.za/ThursdayAffair5Feb
END:VEVENT
END:VCALENDAR
