BEGIN:VCALENDAR
VERSION:2.0
PRODID:icalendar-ruby
CALSCALE:GREGORIAN
METHOD:PUBLISH
BEGIN:VEVENT
DTSTAMP:20260420T184144Z
UID:957776b3-8daf-4b22-8ce3-c0e40fb4e500
DTSTART:20250627T210000
DTEND:20250628T040000
DESCRIPTION:<p>TIBO at Club Paradise this Friday</p>
LOCATION:9 Albertus St\, District Six\, Cape Town\, 7925
SUMMARY:TIBO at Club Paradise
URL;VALUE=URI:https://www.howler.co.za/tiboparadise
END:VEVENT
END:VCALENDAR
