BEGIN:VCALENDAR
VERSION:2.0
PRODID:icalendar-ruby
CALSCALE:GREGORIAN
METHOD:PUBLISH
BEGIN:VEVENT
DTSTAMP:20260420T004104Z
UID:fcf9fe39-45de-4e50-b0d4-5a39ab7c4a46
DTSTART:20200913T140000
DTEND:20200913T190000
DESCRIPTION:<p>Ozz\, ‘Your center of unlearning’\,</p><p>You have been 
 on the road less travelled\, followed the rabbits down the yellow brick ro
 ad and attended online Green Cuisine & have figured out ‘Rolls your own 
 is the answer to the lock down blues \,</p><p> </p><p>NOW we are ready to
  WOW you again with another first in The Cannabis Lovers space\, an exciti
 ng online <span style="color: rgb(34\, 34\, 34)\;">event celebrating sprin
 g and well-being</span></p><p> </p><p>We are thrilled to invite you to <s
 trong>Turn over a new ‘Leaf with Leafolo</strong>.</p><p> </p><p>Join T
 he Green Side and Leafolo herbal mix for a first of a kind event filled wi
 th: <span style="color: rgb(34\, 34\, 34)\;">an opportunity to try out the
  best hemp blends accompanied by </span>loads of dope stuff to win.</p><p>
  </p><p><strong style="color: rgb(34\, 34\, 34)\;">Bring your best bud!</
 strong></p><p><span style="color: rgb(34\, 34\, 34)\;">Literally and figur
 atively\, come try Leafolo and bring a friend.</span></p><p><span style="c
 olor: rgb(34\, 34\, 34)\;">At this event you will be able to:</span></p><p
 ><span style="color: rgb(34\, 34\, 34)\;">·     Try our latest hemp 
 blend for a THC break\, while still enjoying the good herb.</span></p><p><
 span style="color: rgb(34\, 34\, 34)\;">·     Say goodbye to Tobacco
  & Nicotine with the ‘Leafolo Quit’ It 50/50 method.</span></p><p><spa
 n style="color: rgb(34\, 34\, 34)\;">·     Or just smoke healthier b
 y using our Lion's Tail blend - The Perfect Mix with your Tobacco or Canna
 bis.</span></p><p><span style="color: rgb(34\, 34\, 34)\;">·     You
  will also be able to enjoy making your own Pre-rolleds with Dark Horse 
 – Cannatubes and Injectors.</span></p><p><span style="color: rgb(34\, 34
 \, 34)\;"> </span></p><p>All this leafolo’ merriment will be accompanie
 d by the awesome beats of our in-house DJ’s and spectacular visuals from
  our super charged VJ’s. Accompanied with <span style="color: rgb(34\, 3
 4\, 34)\;">a Fresh and Healthy Smoothie to boost your immune system and ge
 t spring in your step... </span></p><p><span style="color: rgb(34\, 34\, 
 34)\;"> </span></p><p>Due to Lock down regulations we can only accommodat
 e 50 ‘on site’ guests with social distancing for now at any one time.<
 /p><p> </p><p>But don't be alarmed!!!</p><p> </p><p>The Transit Lounge w
 ill host the ‘Green Sessions. This exciting canna-connoisseur lifestyle 
 online event & experiential learning activity will be available at home o
 n Facebook live stream.</p><p> </p><p>We have 50 tickets available where 
 you will get your goodie bag delivered to your home and we will give you t
 he links to the live Facebook s and the behind the scenes private YouTube 
 streams.</p><p> </p><p>Our chosen charity for this event is Fields of Gre
 en for all.</p><p> </p><p> </p><p> </p><p> </p><p>The Cost:</p><p> </
 p><p> R150 per head on site</p><p>(Includes: welcome drink\, all the free
  gear you will need\, a take home goodie bag & donation to our chosen char
 ity)</p><p> </p><p> </p><p>R150 per head off site\, Collection or Delive
 ry in Gauteng .</p><p>(Includes: Behind the scene YouTube link \, a home g
 oodie bag & a donation to our chosen charity)</p><p> </p><p>NEWSFLASH\,</
 p><p>We will be running a competition where you have the opportunity to wi
 n a free ticket to the event including a leafolo kit. </p><p> </p><p> <
 /p><p>Namaste.</p>
SUMMARY:Turn over a new Leaf with Leafolo
URL;VALUE=URI:https://www.howler.co.za/13-09-20_Leafolo
END:VEVENT
END:VCALENDAR
