BEGIN:VCALENDAR
VERSION:2.0
PRODID:icalendar-ruby
CALSCALE:GREGORIAN
METHOD:PUBLISH
BEGIN:VEVENT
DTSTAMP:20260423T160805Z
UID:d5386e90-8d88-4328-9806-a278c880c726
DTSTART:20220604T110000
DTEND:20220604T210000
DESCRIPTION:<p><span style="color: rgb(64\, 77\, 87)\;">People of KZN\, we 
 hope you are ready for the event of the year! We bring you the UMHLANGA GI
 N FESTIVAL 2022. Guests can expect a wide variety of local and internation
 al gin products\, live music and amazing food trucks. Tickets are limited\
 , so gather your friends and book your tickets before we are sold out. Tic
 ket price includes a complimentary gin glass and a gin cocktail on arrival
 . Good food\, good gin\, good times!</span></p><p><br></p><p><span style="
 color: rgb(64\, 77\, 87)\;">Not for sale to persons under the age of 18.</
 span></p><p><span style="color: rgb(64\, 77\, 87)\;">No food or beverage i
 tems may be brought into the event venue.</span></p><p><span style="color:
  rgb(64\, 77\, 87)\;">Please enjoy responsibly. Don't drink and drive.</sp
 an></p><p><span style="color: rgb(64\, 77\, 87)\;">Right of admission rese
 rved.</span></p><p><br></p>
LOCATION:Park Avenue Umhlanga
SUMMARY:Umhlanga Gin Festival 2022
URL;VALUE=URI:https://www.howler.co.za/umhlanga_gin_festival_22
END:VEVENT
END:VCALENDAR
