BEGIN:VCALENDAR
VERSION:2.0
PRODID:icalendar-ruby
CALSCALE:GREGORIAN
METHOD:PUBLISH
BEGIN:VEVENT
DTSTAMP:20260419T131856Z
UID:11bcfa14-4119-4eff-898a-b30cb1c30a41
DTSTART:20191221T080000
DTEND:20191221T170000
DESCRIPTION:<p>Family Fun Day for kids all ages with games\, jumping castle
 s\, food & drinks.</p>
LOCATION:Umzimkhulu 
SUMMARY:Umzimkhulu Family Fun Day
URL;VALUE=URI:https://www.howler.co.za/Pandamocoza
END:VEVENT
END:VCALENDAR
