BEGIN:VCALENDAR
VERSION:2.0
PRODID:icalendar-ruby
CALSCALE:GREGORIAN
METHOD:PUBLISH
BEGIN:VEVENT
DTSTAMP:20260423T155730Z
UID:bc779068-8a4b-4c65-acbc-5be5b476d60b
DTSTART:20250709T090000
DTEND:20250709T150000
DESCRIPTION:<p><span style="color: rgb(0\, 0\, 0)\;">Unlock your next level
  at Eswatini’s premier business and leadership event -</span><strong sty
 le="color: rgb(0\, 0\, 0)\;">Unlock Summit 2025</strong><span style="color
 : rgb(0\, 0\, 0)\;">. Join global thought leader </span><strong style="co
 lor: rgb(0\, 0\, 0)\;">Vusi Thembekwayo</strong><span style="color: rgb(0\
 , 0\, 0)\;"> and a lineup of pioneering speakers as they share actionable
  insights\, transformative strategies\, and real-world tools to elevate yo
 ur leadership\, business\, and community impact.</span></p><p><br></p><p><
 strong>What to Expect:</strong></p><ul><li><strong>Keynote Speech:</strong
 > Learn from Africa’s top business mind\, Vusi Thembekwayo.</li><li><st
 rong>Panel Discussions:</strong> Gain diverse perspectives on growth\, le
 adership\, and economic empowerment.</li><li><strong>The Leadership Lounge
  (Exclusive to First 50 Platinum Ticket Holders):</strong> An intimate co
 cktail-style networking session with Vusi and top business leaders.</li><l
 i><strong>Magna Carta Book Signing:</strong> Be among the first to get Vu
 si’s <em>Magna Carta</em> signed.</li><li><strong>Networking Opportuni
 ties:</strong> Connect with Eswatini’s brightest minds\, business owner
 s\, and industry leaders.</li></ul><p><br></p><p><strong>Who Should Attend
 ?</strong></p><p>Whether you are:</p><ul><li>An <strong>entrepreneur</str
 ong> looking to scale your business\,</li><li>A <strong>business leader<
 /strong> wanting to lead with impact\,</li><li>A <strong>corporate execu
 tive</strong> seeking fresh strategies\, or</li><li>An <strong>aspiring 
 changemaker</strong> ready to unlock your next level…</li></ul><p>The 
 <strong>Unlock Summit</strong> is designed for you.</p><p><br></p><p><spa
 n style="color: rgb(0\, 0\, 0)\;">This isn’t just an event—it’s a tu
 rning point. The </span><strong style="color: rgb(0\, 0\, 0)\;">Unlock Su
 mmit</strong><span style="color: rgb(0\, 0\, 0)\;"> is where real leaders
 \, actionable tools\, and collective growth converge to shape Eswatini’s
  business landscape.</span></p><p><br></p><p><span style="color: rgb(0\, 0
 \, 0)\;">What if the K3Y to Eswatini's future... is you? </span></p><p><br
 ></p><p>Get ready to unlock change together.</p>
LOCATION:Manzini\, Eswatini
SUMMARY:Unlock Summit hosted by The K3Y
URL;VALUE=URI:https://www.howler.co.za/unlocksummit
END:VEVENT
END:VCALENDAR
