BEGIN:VCALENDAR
VERSION:2.0
PRODID:icalendar-ruby
CALSCALE:GREGORIAN
METHOD:PUBLISH
BEGIN:VEVENT
DTSTAMP:20260422T085609Z
UID:5272db42-04f0-4a0f-9777-40c4585b686b
DTSTART:20240427T000000
DTEND:20240428T000000
DESCRIPTION:<p>Nkosazana Daughter One Woman Show at Zone 6 Venue </p>
LOCATION:28 Blackchain Shopping Centre\, Chris Hani Rd & Patrick Street\, D
 iepkloof Zone 6
SUMMARY:Uthingo Le Nkosazana 
URL;VALUE=URI:https://www.howler.co.za/Uthingo
END:VEVENT
END:VCALENDAR
