BEGIN:VCALENDAR
VERSION:2.0
PRODID:icalendar-ruby
CALSCALE:GREGORIAN
METHOD:PUBLISH
BEGIN:VEVENT
DTSTAMP:20260421T082259Z
UID:f982a43e-9dc0-45e3-93c7-49bed61f3825
DTSTART:20241130T000000
DTEND:20241201T000000
DESCRIPTION:<p>Vader pensdown party is a party dedicated to matric learners
 \,younger teens and ages in the early 20’s.Who are willing to socialise\
 ,meet new people and have the times of their lives.No unwanted guests are 
 allowed e.g)25year old and +</p>
SUMMARY:VADER PENSDOWN 
URL;VALUE=URI:https://www.howler.co.za/Vader_pensdown30
END:VEVENT
END:VCALENDAR
