BEGIN:VCALENDAR
VERSION:2.0
PRODID:icalendar-ruby
CALSCALE:GREGORIAN
METHOD:PUBLISH
BEGIN:VEVENT
DTSTAMP:20260422T173025Z
UID:4894cb8a-a11c-403a-9a9f-fa916801b4d6
DTSTART:20220404T190000
DTEND:20220404T220000
DESCRIPTION:<p>It’s GAME ON for FNB Varsity Cup\, South Africa biggest in
 ter-varsity rugby competition. For the first time in two years\, fans are 
 welcome back in stadium. Get in with the #FansThatRock and show your varsi
 ty pride.</p><p>Covid-19 regulations are still in place and tickets are li
 mited. Don’t wait\, get your ticket now.</p><p> </p><p>#RugbyThatRocks<
 /p>
LOCATION:FNB Cut Stadium\, President Brand St\, CBD\, Bloemfontein\, 9301
SUMMARY:Varsity Cup - FNB CUT VS FNB NWU
URL;VALUE=URI:https://www.howler.co.za/CUTVSNWU
END:VEVENT
END:VCALENDAR
