BEGIN:VCALENDAR
VERSION:2.0
PRODID:icalendar-ruby
CALSCALE:GREGORIAN
METHOD:PUBLISH
BEGIN:VEVENT
DTSTAMP:20260420T150919Z
UID:2e0ef235-2b9a-4c22-9c6c-29c529b0f1a0
DTSTART:20160417T130000
DTEND:20160417T233000
DESCRIPTION:<p><strong><u>VERSUS FIGHT NIGHT 1</u></strong></p><p><br></p><
 p>Versus MMA Promotions will showcase some of the best Martial Art talents
  Africa has to offer\, come experience the adrenalin of real MMA Fights\, 
 and meet our Versus MMA champions. This is something you wouldn't want to 
 miss!.</p><p><br></p><p>Picture this\, live MMA fights\, a fully stocked b
 ar\, and a Fight Night after-party\, all under one roof in no other city t
 han Pretoria.</p><p><br></p><p>A total of 19 fights have been confirmed.</
 p><p><br></p><p><strong>Prelim Fights start at 13:00</strong></p><p><br></
 p><p><strong>Co-main and Main Events start at 18:00</strong></p><p>Hanro E
 nslin VS Alex Awolaja (Welterweight) - Co-Main Event</p><p>Nathaniel Koma
 ne VS Guide Moyo (Featherweight) - Co-main Event</p><p>Gift Walker VS Phi
 lani Shabalala (Bantamweight) - Co-Main Event</p><p>Peace Ngupane VS Geul
 or King (Welterweight Title) - Main Event</p><p><br></p><p><strong>PROHIBI
 TED ITEMS</strong></p><p><br></p><p>✘ No persons under the age of 18</p>
 <p>✘ Illegal substances</p><p>✘ Weapons/Firearms</p><p>✘ Cooler boxe
 s</p><p>✘ Pets/Animals</p><p>✘ Alcohol (Will be on sale at the venue)<
 /p><p>✘ Food/snacks (Will be on sale at the venue)</p><p>✘ Beverages (
 Will be on sale at the venue)</p><p>✘ No seating gear/folding chairs/fol
 ding tables</p><p>✘ Any items deemed by security or management to be dan
 gerous or disruptive</p><p>▴▴▴▴▴▴▴▴▴▴▴▴▴▴▴
 ▴▴▴▴▴▴▴▴▴▴▴▴▴▴▴▴▴▴▴▴▴▴▴▴
 ▴▴▴▴▴▴▴▴▴▴▴▴▴▴▴</p><p>R.O.A.R</p><p>NO U18s<
 /p><p>ID REQUIRED</p><p>NO STUDENT CARDS</p><p>ONLY ID\, PASSPORT\, DRIVER
 S LICENSE ACCEPTED</p><p>CERTIFIED COPIES OF IDENTIFICATION ONLY</p><p>NO 
 PHOTOS OF IDENTIFICATION WILL BE ACCEPTED</p>
LOCATION:TO BE ANNOUNCED ON 6 APRIL 2021
SUMMARY:Versus MMA Fight Night 1
URL;VALUE=URI:https://www.howler.co.za/VersusFightNight1
END:VEVENT
END:VCALENDAR
