BEGIN:VCALENDAR
VERSION:2.0
PRODID:icalendar-ruby
CALSCALE:GREGORIAN
METHOD:PUBLISH
BEGIN:VEVENT
DTSTAMP:20260420T211348Z
UID:6193a876-afae-4ef7-8057-9aed70035561
DTSTART:20231202T120000
DTEND:20231202T210000
DESCRIPTION:<p>Experience the exciting combination of cars and fashion at V
 room x Vogue – a unique fusion of two distinct worlds combined into one!
  Dive into a world where the glamour of high fashion meets the thrill of a
 utomotive excellence.</p><p>Hosted at Iscor Water Park\, models will be st
 rutting down a "stance-themed" runway flaunting the masterpieces of our lo
 cal fashion designers. Accompanied by pulsating beats and an electric atmo
 sphere\, this isn’t just an event\; it’s a sensation!</p><p>But there
 ’s more! Your ticket* doesn’t just get you a front-row seat to this ex
 travaganza\; it also guarantees full access to the Iscor Water Park. Revel
  in its pristine beauty\, use its sprawling grounds for delightful picnics
  or fire up a braai with friends.</p><p><br></p><p>For our car enthusiasts
 \, get ready to witness automotive artistry. From classic beauties to mode
 rn beasts\, our Show and Shine competition promises an eye feast! Get amaz
 ed by cars vying for titles in categories such as:</p><ul><li>Best Wheel</
 li><li>Best Interior</li><li>Best Paint/Wrap</li><li>Best Of Show</li><li>
 Most Unique</li><li>Best Budget Build</li><li>Fan Favourite Build</li><li>
 Best Air</li><li>Best Static</li><li>Best Engine Bay</li></ul><p><br></p><
 p>Showcase your car on our runway\, where the models will be strutting the
 ir stuff between the cars\, and be entered into the Show and Shine competi
 tion\, and in the runway-specific competition categories:</p><ul><li>Runwa
 y King & Queen</li><li>Fashion Designers’ Favorite</li><li>Runway Models
 ’ Favorite</li></ul><p> </p><p><br></p><p>Don't miss out on this revved-
 up rendezvous of style and speed! Grab your tickets now and be part of a c
 elebration that drives fashion forward and shifts car admiration into high
  gear. See you at Vroom x Vogue – where your heart will race in more way
 s than one!</p><p><br></p>
LOCATION:Proclamation Hill R55 Hwy &\, Quagga Rd\, West Park\, Pretoria\, 0
 146
SUMMARY:Vroom X Vogue
URL;VALUE=URI:https://www.howler.co.za/vroomxvogue
END:VEVENT
END:VCALENDAR
