BEGIN:VCALENDAR
VERSION:2.0
PRODID:icalendar-ruby
CALSCALE:GREGORIAN
METHOD:PUBLISH
BEGIN:VEVENT
DTSTAMP:20260425T165727Z
UID:a61da847-5fa4-4291-8d5c-75c14a1f49b7
DTSTART:20200413T070000
DTEND:20200413T080000
DESCRIPTION:<p>Wake up and lock down. Monday\, Wednesday and Friday morning
 s from 7am on Instagram Live. In support of @greenpo﻿psa and @drinkarise
 </p>
SUMMARY:Wake Up and Smell the Coffee with Nik Rabinowitz - Family Day
URL;VALUE=URI:https://www.howler.co.za/NRWakeup2
END:VEVENT
END:VCALENDAR
