BEGIN:VCALENDAR
VERSION:2.0
PRODID:icalendar-ruby
CALSCALE:GREGORIAN
METHOD:PUBLISH
BEGIN:VEVENT
DTSTAMP:20260424T164758Z
UID:e4203f84-bfc5-49bf-a4f7-7f2affd06666
DTSTART:20230826T190000
DTEND:20230827T000000
DESCRIPTION:<p>welcome to my town comedy night brought you by Lalela Ngimkh
 ulu Events hosted by Sdudla Soqobo from Empangeni Kwadlangezwa \, these ev
 ent will include comedy musical performance \, stand up comedy and poetry 
 performances .</p><p><br></p><p>It will also for embracing the town i was 
 born on \, we have a program that helps children those that doesn't have u
 niform for school we raise funds to buy them .  this event will occur annu
 ally .</p>
LOCATION:empangeni
SUMMARY:welcome to my town comedy night with sdudla soqobo
URL;VALUE=URI:https://www.howler.co.za/Welcometomytowncomedynightwithsdudla
 soqobo
END:VEVENT
END:VCALENDAR
