BEGIN:VCALENDAR
VERSION:2.0
PRODID:icalendar-ruby
CALSCALE:GREGORIAN
METHOD:PUBLISH
BEGIN:VEVENT
DTSTAMP:20260424T211342Z
UID:e5525fb2-94a7-4c41-9718-a69dc6519ba3
DTSTART:20240323T071500
DTEND:20240323T120000
DESCRIPTION:<p>EVENT INFO:</p><p><br></p><p>👉On-line Entries will close 
 on 20th of March. If you still wish to enter the event after online entrie
 s close\, you will be able Register on the day at Grotto Beach Hermanus. J
 ust make sure you arrive early!</p><p>👉The CUT OFF time for the 21km ru
 n is 3Hours\, we will however start the prize giving 2.5hours from the Sta
 rt. </p><p>👉Online entries will receive a Finishers Medal</p><p><br></
 p>
LOCATION:Grotto St\, Hermanus\, 7200
SUMMARY:Whale Coast Half Marathon and 10km - 2024
URL;VALUE=URI:https://www.howler.co.za/WhaleCoast24
END:VEVENT
END:VCALENDAR
