BEGIN:VCALENDAR
VERSION:2.0
PRODID:icalendar-ruby
CALSCALE:GREGORIAN
METHOD:PUBLISH
BEGIN:VEVENT
DTSTAMP:20260420T143630Z
UID:d1a99c6d-0d36-4ee7-83f6-1574eb0fa028
DTSTART:20251025T200000
DTEND:20251026T020000
DESCRIPTION:<p>WHYLY invites TOYTOYS Fabio to join the WHYLY faithful come 
 the 25th October 2025\, Alongside debutants OCD_J and Alexi. Support from 
 WHYLY resident Romario Afonso </p><p><br></p><p>Come early\, stay late!</p
 ><p><br></p><p>No flash photography on the dance floor</p><p><br></p><p>RO
 AR</p>
LOCATION:216 Sisulu St\, Pretoria Central\,\, Pretoria\, Gauteng\, 0002
SUMMARY:WHYLY 25/10/2025
URL;VALUE=URI:https://www.howler.co.za/WHYLY251025
END:VEVENT
END:VCALENDAR
